Workbook
Name Contents: Inhoudsopgave!$B$12

Sheet Voorblad
A14: Vereniging
A15: Vrienden van het Frans Hals Museum
A28: Jaarrekening
A31: 2025

Sheet Inhoudsopgave
B11: INHOUDSOPGAVE
B17: JAARREKENING
B18: Balans per 31 december 2025
B19: Staat van baten en lasten over de periode van 1 januari tot en met 31 december 2025
C20: 4
B21: Algemene toelichting | C21: 5
B22: Toelichting op de balans en de staat van baten en lasten | C22: 6
B24: BIJLAGE
B25: Kengetallen | C25: 9

Sheet Balans + V&W
A1: BALANS PER 31 DECEMBER 2025
F5: 31-12-2025 | I5: 31-12-2024
F6: € | I6: €
A7: ACTIVA
A9: Vlottende activa
A10: Voorraden | F10: ='Afzonderlijke posten'!I9 -> 0 | I10: ='Afzonderlijke posten'!K9 -> 330
A11: Vorderingen | F11: ='Afzonderlijke posten'!I23 -> 0 | I11: ='Afzonderlijke posten'!K23 -> 306.87
A12: Liquide middelen | F12: ='Afzonderlijke posten'!I37 -> 471199.22 | I12: ='Afzonderlijke posten'!K37 -> 688396.71
G13: =SUM(F10:F12) -> 471199.22 | J13: =SUM(I10:I12) -> 689033.58
G15: =SUM(G9:G14) -> 471199.22 | J15: =SUM(J9:J14) -> 689033.58
A18: PASSIVA
A20: Eigen vermogen
A21: Vrije reserve | F21: ='Afzonderlijke posten'!I43 -> 364771.55 | I21: ='Afzonderlijke posten'!K43 -> 552606.62
A22: G.P. Gerrits Fonds | F22: ='Afzonderlijke posten'!I64 -> 106250 | I22: ='Afzonderlijke posten'!K64 -> 136250
G23: =SUM(F21:F22) -> 471021.55 | J23: =SUM(I21:I22) -> 688856.62
A26: Kortlopende schulden en overlopende passiva
A27: Overige schulden | F27: ='Afzonderlijke posten'!I82 -> 177.5 | I27: ='Afzonderlijke posten'!K82 -> 177.78
G28: =SUM(F27:F27) -> 177.5 | J28: =SUM(I27:I27) -> 177.78
G32: =SUM(G23:G31) -> 471199.05 | J32: =SUM(J23:J31) -> 689034.4
A36: STAAT VAN BATEN EN LASTEN OVER DE PERIODE VAN 1 JANUARI TOT EN MET 31 DECEMBER 2025
G39: 2025 | J39: 2024
G40: € | J40: €
A41: BATEN
A42: Contributies en overige bijdragen | F42: ='Afzonderlijke posten'!I91 -> 46335 | I42: ='Afzonderlijke posten'!K91 -> 50469
A43: Legaten en bijzondere schenkingen | F43: ='Afzonderlijke posten'!I102 -> 68160.7 | I43: ='Afzonderlijke posten'!K102 -> 54000
A44: Overige baten | F44: ='Afzonderlijke posten'!I111 -> 0 | I44: ='Afzonderlijke posten'!K111 -> 0
A45: Rente en diverse baten | F45: ='Afzonderlijke posten'!I118 -> 9772.31 | I45: ='Afzonderlijke posten'!K118 -> 1071.13
A46: Totaal baten | G46: =SUM(F42:F45) -> 124268.01 | J46: =SUM(I42:I45) -> 105540.13
A49: LASTEN
A50: Doeluitgaven
A51: Schenkingen Frans Hals Museum | F51: ='Afzonderlijke posten'!I128 -> 300000 | I51: ='Afzonderlijke posten'!K128 -> 50000
A52: Dotatie G.P. Gerrits fonds | F52: ='Afzonderlijke posten'!I129 -> 0 | I52: ='Afzonderlijke posten'!K129 -> 0
A53: Totaal doeluitgaven | G53: =SUM(F51:F52) -> 300000 | J53: =SUM(I51:I52) -> 50000
A55: Algemene kosten
A56: Kosten bestuur, secretariaat en ledenadministratie | F56: ='Afzonderlijke posten'!I142 -> 4355.12 | I56: ='Afzonderlijke posten'!K142 -> 4796.87
A57: Saldo baten en lasten ledenactiviteiten | F57: ='Afzonderlijke posten'!I143 -> 7216.37 | I57: ='Afzonderlijke posten'!K143 -> 4337.64
A58: Totaal algemene kosten | G58: =SUM(F56:F57) -> 11571.49 | J58: =SUM(I56:I57) -> 9134.51
A59: Bijzondere lasten | G59: ='Afzonderlijke posten'!I149 -> 531.59
A60: Totaal lasten | G60: =SUM(G53:G59) -> 312103.08 | J60: =SUM(J53:J59) -> 59134.51
A63: Batig (nadelig) saldo | G63: =G46-G60 -> -187835.07 | J63: =J46-J60 -> 46405.62

Sheet Algemene toelichting
A1: RAPPORTAGE
A4: Algemene toelichting
A6: De vereniging is opgericht op 24 september 1987 en heeft onder meer ten doel het bevorderen van de bekendheid van het Frans Hals Museum en van zijn collectie, het organiseren van lezingen, excursies en dergelijke voor haar leden, en het verwerven van middelen ten behoeve van het behoud en uitbreiding van de collectie van het Frans Hals Museum.
A10: De vereniging is aangemerkt als Algemeen Nut Beogende Instelling (ANBI) en daardoor vrijgesteld van schenking- en erfbelasting. Echter, daar waar het de exploitatie van de museumwinkel betreft, draagt de vereniging omzetbelasting af.
A14: De jaarrekening is opgemaakt op basis van historische kostprijs. De waardering van activa en passiva geschiedt, voor zover niet anders is vermeld, tegen nominale waarde. Winsten worden toegerekend aan de periode waarin ze zijn gerealiseerd. Verliezen worden verantwoord in het jaar waarin ze voorzienbaar zijn.
A19: Grondslagen voor waardering van activa en passiva
A21: Activa en passiva worden gewaardeerd op hun nominale waarde.
A23: Opbrengsten en kosten worden op basis van historische verkoop- en kostprijzen en met inachtneming van de hiervoor vermelde waarderingsgrondslagen toegerekend aan het jaar waarop zij betrekking hebben.
A26: De gehanteerde grondslagen van waardering en van resultaatbepaling zijn ongewijzigd gebleven ten opzichte van het voorgaande jaar.
A30: Grondslagen voor bepaling van het resultaat
A32: Het resultaat wordt bepaald als het verschil tussen de opbrengstwaarde en de kosten en andere lasten over het jaar. De opbrengsten op transacties worden verantwoord in het jaar waarin zij zijn gerealiseerd.
A36: Kosten
... A43: Deze worden tijdsevenredig verwerkt, rekening houdend met de effectieve rentevoet van de onderliggende activa.

Sheet Afzonderlijke posten
A1: TOELICHTING OP DE AFZONDERLIJKE POSTEN VAN DE BALANS EN DE WINST- EN VERLIESREKENING
I5: 31-12-2025 | K5: 31-12-2024
I6: € | K6: €
A8: Winkelvoorraad
A9: Voorraad | I9: 0 | K9: 330
A10: Winkelexpoitatie is volledig overgedragen aan het museum
A18: Vorderingen
A19: Te ontvangen winkelverkopen | I19: 0 | K19: 0
A20: Omzetbelasting | I20: 0 | K20: 0
A21: Te ontvangen rente | I21: 0 | K21: 0
A22: Overige | I22: 0 | K22: =446.87-140 -> 306.87
I23: =SUM(I19:I22) -> 0 | K23: =SUM(K19:K22) -> 306.87
A24: Alle vorderingen hebben een resterende looptijd korter dan een jaar. De reële waarde van de vorderingen is gelijk aan de boekwaarde gezien het kortlopende karakter van de vorderingen en omdat waar nodig voorzieningen voor oninbaarheid zullen worden gevormd.
A31: Liquide middelen
A32: Rabo Bank | I32: 55965.41 | K32: 133574.16
A33: ING Bank | I33: 88673.04 | K33: 128841.12
A34: Deposito's (Rabo en ING) (2,35% rente/jaar) | I34: 300000 | K34: 400000
A35: SNS | I35: 26282.25 | K35: =25953.4-0.49 -> 25952.91
A36: Kas | I36: 278.52 | K36: 28.52
I37: =SUM(I32:I36) -> 471199.22 | K37: =SUM(K32:K36) -> 688396.71
A38: De liquide middelen staan geheel ter vrije beschikking van de vereniging.
A42: Eigen vermogen
A43: Vrije reserve | I43: =I53 -> 364771.55 | K43: =K53 -> 552606.62
A44: G.P. Gerrits Fonds | I44: =I64 -> 106250 | K44: =K64 -> 136250
I45: =SUM(I43:I44) -> 471021.55 | K45: =SUM(K43:K44) -> 688856.62
A49: Vrije reserve
A50: Stand aanvang boekjaar | I50: =K53 -> 552606.62 | K50: 506201
A51: Reclassificatie fondsen | I51: 0 | K51: 0
A52: Saldo boekjaar | I52: ='Balans + V&W'!G63 -> -187835.07 | K52: ='Balans + V&W'!J63 -> 46405.62
A53: Stand einde boekjaar | I53: =SUM(I50:I52) -> 364771.55 | K53: =SUM(K50:K52) -> 552606.62
I58: 31-12-2025 | K58: 31-12-2024
I59: € | K59: €
A60: G.P. Gerrits Fonds
A61: Stand aanvang boekjaar | I61: =K64 -> 136250 | K61: 151250
A62: Onttrekkingen | I62: -30000 | K62: -15000
A63: Dotatie | I63: - | K63: 0
A64: Stand einde boekjaar | I64: =SUM(I61:I63) -> 106250 | K64: =SUM(K61:K63) -> 136250
A65: Bij zijn overlijden op 6 april 2019 heeft de heer Gerrit Pieter Gerrits per testament de Vereniging van Vrienden van het Frans Hals Museum als enige rechthebbende op zijn gehele nalatenschap benoemd. Hierbij heeft hij de vereniging als last opgelegd het uit zijn nalatenschap verkregene te besteden voor de restauratie en/of de aankoop van collecties voor het Frans Hals Museum te Haarlem.
A70: De onttrekkingen betreffen:
A71: - | B71: Bijdrage aankopen hedendaagse kunst 2025 | G71: 15000
...

Sheet Kengetallen
A1: BIJLAGE BIJ DE JAARREKENING 2025
A4: KENGETALLEN
E7: 2019 | G7: 2020 | I7: 2021 | K7: 2022 | M7: 2023 | O7: 2024 | Q7: 2025
A10: Aantal bezoekers Frans Hals Museum | E10: 141187 | G10: 41720 | I10: 36559 | K10: 69749 | M10: 102215 | O10: 108695 | Q10: 112790
A12: Besteding in de winkel (excl.. BTW) | E12: 100887 | G12: 28184 | I12: 33028 | K12: 73335 | M12: 127249 | Q12: 189677.34
A13: Besteding per bezoeker | E13: 0.71 | G13: 0.67 | I13: =I12/I10 -> 0.9034164 | K13: =K12/K10 -> 1.0514129 | M13: 2.04 | O13: 2.95 | Q13: 1.97 | R13: Opm : betreft besteding per volwassen bezoeker
A14: Batig saldo winkelverkopen | E14: 37463 | G14: 10165 | I14: 13580 | K14: 27652 | M14: 34139 | O14: 76240 | Q14: 77019
A16: Schenkingen aan het Museum | E16: 158899 | G16: 155000 | I16: 180000 | K16: 110000 | M16: 145000 | O16: 65000 | Q16: 330000 | R16: Opm : 1. excl €35.000 die nu door het museum wordt gedaan omdat ze de winkel hebben overgenomen
R17: 2. € 250.000 bijgedragen aan de aankoop van de 2 Halsjes
P19: nieuwe leden | R19: nieuwe leden
A20: Aantal Vrienden | E20: 1196 | G20: 1100 | I20: 1150 | K20: =K21+K22+K23+K24 -> 1011 | M20: =SUM(M21:M24) -> 922 | O20: =SUM(O21:O24) -> 850 | Q20: =SUM(Q21:Q24) -> 832
A21: Ereleden | K21: 4 | M21: 4 | O21: 4 | Q21: 4
A22: Leden voor het leven | K22: 98 | M22: 99 | O22: 100 | Q22: 100
A23: Leden (betaald) | K23: 801 | M23: 720 | N23: 23 | O23: 653 | P23: 46 | Q23: =376+(128*2) -> 632 | R23: 35
A24: Roemers (betaald) | K24: 108 | M24: 99 | N24: 12 | O24: 93 | P24: 11 | Q24: =(37*2)+22 -> 96 | R24: 2
A25: Contributie inkomsten | E25: 40279 | G25: 43452 | I25: 40736 | K25: 46110 | M25: 53593 | O25: 50469 | Q25: 46335
A27: Lidmaatschapskosten
A28: Vriend (Persoonlijk lid) | E28: 32.5 | G28: 32.5 | I28: 32.5 | K28: 32.5 | M28: 50 | O28: 50 | Q28: 50
A29: Vriend (Partner lid) | E29: 47.5 | G29: 47.5 | I29: 47.5 | K29: 47.5 | M29: 75 | O29: 75 | Q29: 75
A30: Roemer (Persoonlijk lid) | E30: 175 | G30: 175 | I30: 175 | K30: 175 | M30: 175 | O30: 175 | Q30: 175
A31: Roemer (Partner lid) | E31: 300 | G31: 300 | I31: 300 | K31: 300 | M31: 300 | O31: 300 | Q31: 300
